BEGIN:VCALENDAR
VERSION:2.0
CALSCALE:GREGORIAN
PRODID:-//Diputació de Barcelona//DibaCMS//EN
BEGIN:VEVENT
UID:3369
DTSTAMP:20260421T185721
DTSTART:20180505T130000
DTEND:20180505T133000
SUMMARY:Inauguració mostra manuals i llibres escolars antics
LOCATION:C/ Pilar, 2 08786 Capellades
METHOD:PUBLISH
X-WR-CALNAME:capellades@capellades.cat
X-WR-TIMEZONE:Europe/Madrid
DESCRIPTION:Aquesta és una mostra de la col·lecció particular de Montse Badia.

URI:https://www.capellades.cat/actualitat/agenda/inauguracio-mostra-manuals-i-llibres-escolars-antics.html
CLASS:PUBLIC
END:VEVENT
END:VCALENDAR
