BEGIN:VCALENDAR
VERSION:2.0
CALSCALE:GREGORIAN
PRODID:-//Diputació de Barcelona//DibaCMS//EN
BEGIN:VEVENT
UID:3368
DTSTAMP:20260422T033352
DTSTART:20180504T193000
DTEND:20180504T210000
SUMMARY:Manchester frente al mar
LOCATION:C/ Pilar, 13 08786 Capellades
METHOD:PUBLISH
X-WR-CALNAME:capellades@capellades.cat
X-WR-TIMEZONE:Europe/Madrid
DESCRIPTION:La pel·lícula narra la història dels Chandler, una família de la classe obrera establerta a Massachusetts. Després de la defunció del seu germà gran, el Lee es converteix en el tutor legal del seu nebot. Inesperadament, el Lee es veu obligat a enfrontar-se al tràgic passat que el va portar a separar-se de la seva dona Randi i de la comunitat en la qual va néixer i créixer.

URI:https://www.capellades.cat/actualitat/agenda/manchester-frente-al-mar.html
CLASS:PUBLIC
END:VEVENT
END:VCALENDAR
