BEGIN:VCALENDAR
VERSION:2.0
CALSCALE:GREGORIAN
PRODID:-//Diputació de Barcelona//DibaCMS//EN
BEGIN:VEVENT
UID:3367
DTSTAMP:20260421T231300
DTSTART:20180504T200000
DTEND:20180504T203000
SUMMARY:Inauguració exposició David Ribas
LOCATION:Pau Casals, 10 08786 Capellades
METHOD:PUBLISH
X-WR-CALNAME:capellades@capellades.cat
X-WR-TIMEZONE:Europe/Madrid
DESCRIPTION:"L'art és una venjança" és la darrera mostra de David Ribas.

URI:https://www.capellades.cat/actualitat/agenda/inauguracio-exposicio-david-ribas.html
CLASS:PUBLIC
END:VEVENT
END:VCALENDAR
