BEGIN:VCALENDAR
VERSION:2.0
CALSCALE:GREGORIAN
PRODID:-//Diputació de Barcelona//DibaCMS//EN
BEGIN:VEVENT
UID:3352
DTSTAMP:20260422T050144
DTSTART:20180421T100000
DTEND:20180422T160000
SUMMARY:Aquest dissabte Futbol Sala a Casa
LOCATION:Avda. Maties Guasch 08786 Capellades
METHOD:PUBLISH
X-WR-CALNAME:capellades@capellades.cat
X-WR-TIMEZONE:Europe/Madrid
DESCRIPTION:Aquest cap de setman el Club de Futbol Sala Capellades juga a casa.

URI:https://www.capellades.cat/actualitat/agenda/aquest-dissabte-futbol-sala-a-casa.html
CLASS:PUBLIC
END:VEVENT
END:VCALENDAR
