BEGIN:VCALENDAR
VERSION:2.0
CALSCALE:GREGORIAN
PRODID:-//Diputació de Barcelona//DibaCMS//EN
BEGIN:VEVENT
UID:3342
DTSTAMP:20260422T045904
DTSTART:20180422T090000
DTEND:20180422T160000
SUMMARY:Raid Travertí aquest diumenge
LOCATION:
METHOD:PUBLISH
X-WR-CALNAME:capellades@capellades.cat
X-WR-TIMEZONE:Europe/Madrid
DESCRIPTION:L'Escola de Muntanya de Capellades i La Nova Fita, amb la col·laboració de l'Ajuntament de Capellades, organitzen aquest cap de setmana el Raid Travertí.

 

URI:https://www.capellades.cat/actualitat/agenda/raid-traverti-aquest-diumenge.html
CLASS:PUBLIC
END:VEVENT
END:VCALENDAR
