BEGIN:VCALENDAR
VERSION:2.0
CALSCALE:GREGORIAN
PRODID:-//Diputació de Barcelona//DibaCMS//EN
BEGIN:VEVENT
UID:3341
DTSTAMP:20260422T033517
DTSTART:20180419T093000
DTEND:20180419T113000
SUMMARY:Portes obertes a la llar d'infants
LOCATION:Doctor Fleming, 28 08786 Capellades
METHOD:PUBLISH
X-WR-CALNAME:capellades@capellades.cat
X-WR-TIMEZONE:Europe/Madrid
DESCRIPTION:Portes obertes per visitar l'Escola Bressol Vailets, mentre s'hi realitza activitat.

URI:https://www.capellades.cat/actualitat/agenda/portes-obertes-a-la-llar-dinfants.html
CLASS:PUBLIC
END:VEVENT
END:VCALENDAR
