BEGIN:VCALENDAR
VERSION:2.0
CALSCALE:GREGORIAN
PRODID:-//Diputació de Barcelona//DibaCMS//EN
BEGIN:VEVENT
UID:3340
DTSTAMP:20260422T051024
DTSTART:20180429T073000
DTEND:20180429T210000
SUMMARY:La Penya Blaugrana visita Empuriabrava
LOCATION:
METHOD:PUBLISH
X-WR-CALNAME:capellades@capellades.cat
X-WR-TIMEZONE:Europe/Madrid
DESCRIPTION:A dos quarts de vuit del matí, sortida davant la parada de bus de l'Esplanada del Capelló.

URI:https://www.capellades.cat/actualitat/agenda/la-penya-blaugrana-visita-empuriabrava.html
CLASS:PUBLIC
END:VEVENT
END:VCALENDAR
