BEGIN:VCALENDAR
VERSION:2.0
CALSCALE:GREGORIAN
PRODID:-//Diputació de Barcelona//DibaCMS//EN
BEGIN:VEVENT
UID:3339
DTSTAMP:20260422T020816
DTSTART:20180428T190000
DTEND:20180428T203000
SUMMARY:Concert de Big Bands
LOCATION:
METHOD:PUBLISH
X-WR-CALNAME:capellades@capellades.cat
X-WR-TIMEZONE:Europe/Madrid
DESCRIPTION:
URI:https://www.capellades.cat/actualitat/agenda/concert-de-big-bands.html
CLASS:PUBLIC
END:VEVENT
END:VCALENDAR
