BEGIN:VCALENDAR
VERSION:2.0
CALSCALE:GREGORIAN
PRODID:-//Diputació de Barcelona//DibaCMS//EN
BEGIN:VEVENT
UID:3338
DTSTAMP:20260422T004510
DTSTART:20180428T100000
DTEND:20180429T120000
SUMMARY:29è. Concurs Internacional Paper de Música de Capellades
LOCATION:C/ del Fossar, 4 08786 Capellades
METHOD:PUBLISH
X-WR-CALNAME:capellades@capellades.cat
X-WR-TIMEZONE:Europe/Madrid
DESCRIPTION:Paper de Música acollirà el darrer cap de setmana d'abril la 29ena. edició del Concurs Internacional Paper de Música de Capellades.

URI:https://www.capellades.cat/actualitat/agenda/29e-concurs-internacional-paper-de-musica-de-capellades.html
CLASS:PUBLIC
END:VEVENT
END:VCALENDAR
