BEGIN:VCALENDAR
VERSION:2.0
CALSCALE:GREGORIAN
PRODID:-//Diputació de Barcelona//DibaCMS//EN
BEGIN:VEVENT
UID:3337
DTSTAMP:20260421T162933
DTSTART:20180427T193000
DTEND:20180427T210000
SUMMARY:Projecció del documental "Tú y yo" d'Oriol Estrada i Natalia Cabral
LOCATION:C/ Pilar, 13 08786 Capellades
METHOD:PUBLISH
X-WR-CALNAME:capellades@capellades.cat
X-WR-TIMEZONE:Europe/Madrid
DESCRIPTION:La pel·lícula explica la relació de dues dones amb uns orígens geogràfics i socials molt diferents: La Doña i l’Aridia (la mestressa i la jove que està al seu servei). Totes dues comparteixen el protagonisme del film.

URI:https://www.capellades.cat/actualitat/agenda/projeccio-del-documental-tu-y-yo-doriol-estrada-i-natalia-cabral.html
CLASS:PUBLIC
END:VEVENT
END:VCALENDAR
