BEGIN:VCALENDAR
VERSION:2.0
CALSCALE:GREGORIAN
PRODID:-//Diputació de Barcelona//DibaCMS//EN
BEGIN:VEVENT
UID:3335
DTSTAMP:20260422T064230
DTSTART:20180426T210000
DTEND:20180426T230000
SUMMARY:Tast de vins Bodega Baigorri de La Rioja
LOCATION:C/ Pilar, 13 08786 Capellades
METHOD:PUBLISH
X-WR-CALNAME:capellades@capellades.cat
X-WR-TIMEZONE:Europe/Madrid
DESCRIPTION:La Bodega J.Torres ens proposa un bon tast amb la Bodega BAIGORRI de la Rioja. Vins de vinyes molt velles, treballades amb un conreu sostenible, veremades a mà, reflex del sòl, del clima i de la tradició de la Rioja Alabesa.
 

URI:https://www.capellades.cat/actualitat/agenda/tast-de-vins-bodega-baigorri-de-la-rioja.html
CLASS:PUBLIC
END:VEVENT
END:VCALENDAR
