BEGIN:VCALENDAR
VERSION:2.0
CALSCALE:GREGORIAN
PRODID:-//Diputació de Barcelona//DibaCMS//EN
BEGIN:VEVENT
UID:3334
DTSTAMP:20260421T185854
DTSTART:20180414T181500
DTEND:20180414T200000
SUMMARY:Segon partit del Play off del Capellades Hoquei Club
LOCATION:Avda. Maties Guasch 08786 Capellades
METHOD:PUBLISH
X-WR-CALNAME:capellades@capellades.cat
X-WR-TIMEZONE:Europe/Madrid
DESCRIPTION:El Capellades Hoquei Club es juga la permanència a la màxima categoria de l'hoquei català.

URI:https://www.capellades.cat/actualitat/agenda/segon-partit-del-play-off-del-capellades-hoquei-club.html
CLASS:PUBLIC
END:VEVENT
END:VCALENDAR
