BEGIN:VCALENDAR
VERSION:2.0
CALSCALE:GREGORIAN
PRODID:-//Diputació de Barcelona//DibaCMS//EN
BEGIN:VEVENT
UID:3333
DTSTAMP:20260422T064331
DTSTART:20180424T210000
DTEND:20180424T220000
SUMMARY:Audiciona't a l'Escola de Música: temes de pel·lícula a 4 mans
LOCATION:C/ Divina Pastora, 10 08786 Capellades
METHOD:PUBLISH
X-WR-CALNAME:capellades@capellades.cat
X-WR-TIMEZONE:Europe/Madrid
DESCRIPTION:Nou Audiciona't a l'Escola de Música de Capellades.

URI:https://www.capellades.cat/actualitat/agenda/audicionat-a-lescola-de-musica-temes-de-pellicula-a-4-mans.html
CLASS:PUBLIC
END:VEVENT
END:VCALENDAR
