BEGIN:VCALENDAR
VERSION:2.0
CALSCALE:GREGORIAN
PRODID:-//Diputació de Barcelona//DibaCMS//EN
BEGIN:VEVENT
UID:3332
DTSTAMP:20260422T062448
DTSTART:20180423T190000
DTEND:20180423T200000
SUMMARY:Per Sant Jordi: Recital "Batecs de poesia i música"
LOCATION:C/ Pilar, 2 08786 Capellades
METHOD:PUBLISH
X-WR-CALNAME:capellades@capellades.cat
X-WR-TIMEZONE:Europe/Madrid
DESCRIPTION:"Batecs de poesia i música" és un recital que es farà amb la Margarida Bernús recitant poesies i en Cecili Ruedas a la guitarra.

URI:https://www.capellades.cat/actualitat/agenda/per-sant-jordi-recital-batecs-de-poesia-i-musica.html
CLASS:PUBLIC
END:VEVENT
END:VCALENDAR
