BEGIN:VCALENDAR
VERSION:2.0
CALSCALE:GREGORIAN
PRODID:-//Diputació de Barcelona//DibaCMS//EN
BEGIN:VEVENT
UID:3331
DTSTAMP:20260422T133729
DTSTART:20180423T170000
DTEND:20180423T200000
SUMMARY:Per Sant Jordi: parades de roses i llibres al carrer
LOCATION:Plaça Verdaguer 
METHOD:PUBLISH
X-WR-CALNAME:capellades@capellades.cat
X-WR-TIMEZONE:Europe/Madrid
DESCRIPTION:Capellades viurà novament la celebració de la Diada de Sant Jordi, aquest any des d'un escenari diferent: la plaça Verdaguer.

URI:https://www.capellades.cat/actualitat/agenda/per-sant-jordi-parades-de-roses-i-llibres-al-carrer.html
CLASS:PUBLIC
END:VEVENT
END:VCALENDAR
