BEGIN:VCALENDAR
VERSION:2.0
CALSCALE:GREGORIAN
PRODID:-//Diputació de Barcelona//DibaCMS//EN
BEGIN:VEVENT
UID:3330
DTSTAMP:20260421T173157
DTSTART:20180423T160000
DTEND:20180423T180000
SUMMARY:Roses contra l'oblit
LOCATION:
METHOD:PUBLISH
X-WR-CALNAME:capellades@capellades.cat
X-WR-TIMEZONE:Europe/Madrid
DESCRIPTION:Nova edició del projecte Roses contra l'oblit, dins la programació de Sant Jordi.

URI:https://www.capellades.cat/actualitat/agenda/roses-contra-loblit.html
CLASS:PUBLIC
END:VEVENT
END:VCALENDAR
