BEGIN:VCALENDAR
VERSION:2.0
CALSCALE:GREGORIAN
PRODID:-//Diputació de Barcelona//DibaCMS//EN
BEGIN:VEVENT
UID:3329
DTSTAMP:20260422T052122
DTSTART:20180423T110000
DTEND:20180423T123000
SUMMARY:Espectacle de Sant Jordi per a alumnes de cicles inicial i mitjà
LOCATION:Plaça Verdaguer 
METHOD:PUBLISH
X-WR-CALNAME:capellades@capellades.cat
X-WR-TIMEZONE:Europe/Madrid
DESCRIPTION:La Roda Produccions posarà en escena "La llegenda de Sant Jordi", al bell mig de la plaça Verdaguer.

URI:https://www.capellades.cat/actualitat/agenda/espectacle-de-sant-jordi-per-a-alumnes-de-cicles-inicial-i-mitja.html
CLASS:PUBLIC
END:VEVENT
END:VCALENDAR
