BEGIN:VCALENDAR
VERSION:2.0
CALSCALE:GREGORIAN
PRODID:-//Diputació de Barcelona//DibaCMS//EN
BEGIN:VEVENT
UID:3326
DTSTAMP:20260422T001611
DTSTART:20180423T090000
DTEND:20180423T110000
SUMMARY:Matinal de contes per als més petits
LOCATION:C/ Pilar, 2 08786 Capellades
METHOD:PUBLISH
X-WR-CALNAME:capellades@capellades.cat
X-WR-TIMEZONE:Europe/Madrid
DESCRIPTION:Jaume Ibars animarà la Diada de Sant Jordi per als més petits de P2 i P3 a la sala d'actes de la Biblioteca El Safareig, tot explicant "El gegant que baixa de la muntanya".

URI:https://www.capellades.cat/actualitat/agenda/matinal-de-contes-per-als-mes-petits.html
CLASS:PUBLIC
END:VEVENT
END:VCALENDAR
