BEGIN:VCALENDAR
VERSION:2.0
CALSCALE:GREGORIAN
PRODID:-//Diputació de Barcelona//DibaCMS//EN
BEGIN:VEVENT
UID:3320
DTSTAMP:20260421T230816
DTSTART:20180422T120000
DTEND:20180422T140000
SUMMARY:Les pel·lícules dels Capgrossos de Capellades
LOCATION:C/ Pilar, 13 08786 Capellades
METHOD:PUBLISH
X-WR-CALNAME:capellades@capellades.cat
X-WR-TIMEZONE:Europe/Madrid
DESCRIPTION:Matinal per recordar els millors moments dels projectes que ha organitzat Capgrossos de Capellades per celebrar el seu aniversari.

URI:https://www.capellades.cat/actualitat/agenda/les-pellicules-dels-capgrossos-de-capellades.html
CLASS:PUBLIC
END:VEVENT
END:VCALENDAR
