BEGIN:VCALENDAR
VERSION:2.0
CALSCALE:GREGORIAN
PRODID:-//Diputació de Barcelona//DibaCMS//EN
BEGIN:VEVENT
UID:3319
DTSTAMP:20260421T230846
DTSTART:20180422T090000
DTEND:20180422T140000
SUMMARY:Nova sortida dels Caminant per la Comarca
LOCATION:
METHOD:PUBLISH
X-WR-CALNAME:capellades@capellades.cat
X-WR-TIMEZONE:Europe/Madrid
DESCRIPTION:El grup Caminant per la Comarca, de l'Associació d'Esports de Muntanya de Capellades, ha organitzat una nova sortida per aquest mes d'abril. 

URI:https://www.capellades.cat/actualitat/agenda/3319-nova-sortida-dels-caminant-per-la-comarca.html
CLASS:PUBLIC
END:VEVENT
END:VCALENDAR
