BEGIN:VCALENDAR
VERSION:2.0
CALSCALE:GREGORIAN
PRODID:-//Diputació de Barcelona//DibaCMS//EN
BEGIN:VEVENT
UID:3318
DTSTAMP:20260422T105241
DTSTART:20180421T123000
DTEND:20180421T140000
SUMMARY:Concert intercanvi de l'Escola de Música de Capellades
LOCATION:C/ del Fossar, 4 08786 Capellades
METHOD:PUBLISH
X-WR-CALNAME:capellades@capellades.cat
X-WR-TIMEZONE:Europe/Madrid
DESCRIPTION:Amb motiu del 35è aniversari de l'Escola de Música, el dissabte 21 d'abril  es farà un intercanvi entre els alumnes de l'Escola de Música de Capellades i els alumnes de piano de l'Escola de Música Dolors Calvet de Vilafranca del Penedès.

URI:https://www.capellades.cat/actualitat/agenda/concert-intercanvi-de-lescola-de-musica-de-capellades.html
CLASS:PUBLIC
END:VEVENT
END:VCALENDAR
