BEGIN:VCALENDAR
VERSION:2.0
CALSCALE:GREGORIAN
PRODID:-//Diputació de Barcelona//DibaCMS//EN
BEGIN:VEVENT
UID:3317
DTSTAMP:20260422T075512
DTSTART:20180421T200000
DTEND:20180421T220000
SUMMARY:Concert de Sant Jordi Coral Noves Veus i Sitges Canta
LOCATION:
METHOD:PUBLISH
X-WR-CALNAME:capellades@capellades.cat
X-WR-TIMEZONE:Europe/Madrid
DESCRIPTION:Per Sant Jordi la Coral Noves Veus de Capellades ha organitzat un concert, on cantaran acompanyats de la la Coral Sitges Canta.

URI:https://www.capellades.cat/actualitat/agenda/concert-de-sant-jordi-coral-noves-veus-i-sitges-canta.html
CLASS:PUBLIC
END:VEVENT
END:VCALENDAR
