BEGIN:VCALENDAR
VERSION:2.0
CALSCALE:GREGORIAN
PRODID:-//Diputació de Barcelona//DibaCMS//EN
BEGIN:VEVENT
UID:3316
DTSTAMP:20260421T231209
DTSTART:20180421T080000
DTEND:20180421T220000
SUMMARY:Excursió a Elna, Argelers i Cotlliure
LOCATION:
METHOD:PUBLISH
X-WR-CALNAME:capellades@capellades.cat
X-WR-TIMEZONE:Europe/Madrid
DESCRIPTION:La Lliga ha organitzat una excursió que ha tingut molt bona acollida: Visitar la Maternitat d'Elna acompanyats per l'escriptora Assumpta Montellà.

URI:https://www.capellades.cat/actualitat/agenda/excursio-a-elna-argelers-i-cotlliure.html
CLASS:PUBLIC
END:VEVENT
END:VCALENDAR
