BEGIN:VCALENDAR
VERSION:2.0
CALSCALE:GREGORIAN
PRODID:-//Diputació de Barcelona//DibaCMS//EN
BEGIN:VEVENT
UID:3315
DTSTAMP:20260422T045817
DTSTART:20180420T200000
DTEND:20180420T220000
SUMMARY:Cinefòrum Josep Romanyà amb "Agua"
LOCATION:C/ del Fossar, 4 08786 Capellades
METHOD:PUBLISH
X-WR-CALNAME:capellades@capellades.cat
X-WR-TIMEZONE:Europe/Madrid
DESCRIPTION:Nova trobada del Cinefòrum Josep Romanyà Montcada, en aquest cas amb la projecció de la pel·lícula "Agua". El col·loqui i la presentació aniran a càrrec d'Enric Falo.

URI:https://www.capellades.cat/actualitat/agenda/cineforum-josep-romanya-amb-agua.html
CLASS:PUBLIC
END:VEVENT
END:VCALENDAR
