BEGIN:VCALENDAR
VERSION:2.0
CALSCALE:GREGORIAN
PRODID:-//Diputació de Barcelona//DibaCMS//EN
BEGIN:VEVENT
UID:3310
DTSTAMP:20260422T033206
DTSTART:20180420T180000
DTEND:20180420T190000
SUMMARY:Storytelling de la llegenda "Saint George's Day"
LOCATION:C/ Pilar, 2 08786 Capellades
METHOD:PUBLISH
X-WR-CALNAME:capellades@capellades.cat
X-WR-TIMEZONE:Europe/Madrid
DESCRIPTION:
URI:https://www.capellades.cat/actualitat/agenda/storytelling-de-la-llegenda-saint-georges-day.html
CLASS:PUBLIC
END:VEVENT
END:VCALENDAR
