BEGIN:VCALENDAR
VERSION:2.0
CALSCALE:GREGORIAN
PRODID:-//Diputació de Barcelona//DibaCMS//EN
BEGIN:VEVENT
UID:3309
DTSTAMP:20260422T050317
DTSTART:20180419T193000
DTEND:20180419T210000
SUMMARY:Xerrada: "Per què ens costa posar límits als nostres fills?"
LOCATION:
METHOD:PUBLISH
X-WR-CALNAME:capellades@capellades.cat
X-WR-TIMEZONE:Europe/Madrid
DESCRIPTION:El Saló Rosa de La Lliga de Capellades acollirà la xerrada de la psicòloga Naima Salrà sobre "Per què ens costa tant posar límits als nostres fills?"

URI:https://www.capellades.cat/actualitat/agenda/xerrada-per-que-ens-costa-posar-limits-als-nostres-fills.html
CLASS:PUBLIC
END:VEVENT
END:VCALENDAR
