BEGIN:VCALENDAR
VERSION:2.0
CALSCALE:GREGORIAN
PRODID:-//Diputació de Barcelona//DibaCMS//EN
BEGIN:VEVENT
UID:3307
DTSTAMP:20260422T084006
DTSTART:20180419T160000
DTEND:20180419T190000
SUMMARY:Bingo a Cal Ponet
LOCATION:C/ Divina Pastora, 1 08786 Capellades
METHOD:PUBLISH
X-WR-CALNAME:capellades@capellades.cat
X-WR-TIMEZONE:Europe/Madrid
DESCRIPTION:Com cada tercer dijous de mes, des de fa dues edicions, Cal Ponet fa el seu bingo.

URI:https://www.capellades.cat/actualitat/agenda/3307-bingo-a-cal-ponet.html
CLASS:PUBLIC
END:VEVENT
END:VCALENDAR
