BEGIN:VCALENDAR
VERSION:2.0
CALSCALE:GREGORIAN
PRODID:-//Diputació de Barcelona//DibaCMS//EN
BEGIN:VEVENT
UID:3306
DTSTAMP:20260421T131811
DTSTART:20180418T180000
DTEND:20180418T200000
SUMMARY:Presentació del llibre "Mariona i els monstres"
LOCATION:C/ Pilar, 2 08786 Capellades
METHOD:PUBLISH
X-WR-CALNAME:capellades@capellades.cat
X-WR-TIMEZONE:Europe/Madrid
DESCRIPTION:Dimecres també a les sis es prevista la presentació del llibre “Mariona i els monstres”, amb la presència de l’autor i alhora il·lustrador Oriol Malet. La protagonista, la Mariona, és una nena molt especial que té molta traça amb els pinzells i, a diferència d'altres nens i nenes, no li fan por els monstres. Gens ni mica. De fet, per sorprenent que sembli, són els seus amics.
El primer projecte d'Oriol Malet en solitari. Un àlbum il·lustrat sense mots que neix de la relació de l'autor amb la seva filla.

URI:https://www.capellades.cat/actualitat/agenda/presentacio-del-llibre-mariona-i-els-monstres.html
CLASS:PUBLIC
END:VEVENT
END:VCALENDAR
