BEGIN:VCALENDAR
VERSION:2.0
CALSCALE:GREGORIAN
PRODID:-//Diputació de Barcelona//DibaCMS//EN
BEGIN:VEVENT
UID:3305
DTSTAMP:20260421T131853
DTSTART:20180417T180000
DTEND:20180417T190000
SUMMARY:Hora del Conte amb Montse Panero
LOCATION:C/ Pilar, 2 08786 Capellades
METHOD:PUBLISH
X-WR-CALNAME:capellades@capellades.cat
X-WR-TIMEZONE:Europe/Madrid
DESCRIPTION:Dimarts continuarà la progamació especial Sant Jordi 2018.

URI:https://www.capellades.cat/actualitat/agenda/hora-del-conte-amb-montse-panero.html
CLASS:PUBLIC
END:VEVENT
END:VCALENDAR
