BEGIN:VCALENDAR
VERSION:2.0
CALSCALE:GREGORIAN
PRODID:-//Diputació de Barcelona//DibaCMS//EN
BEGIN:VEVENT
UID:3304
DTSTAMP:20260421T144842
DTSTART:20180416T180000
DTEND:20180416T200000
SUMMARY:Laboratori de Lectura "El llop ha tornat"
LOCATION:C/ Pilar, 2 08786 Capellades
METHOD:PUBLISH
X-WR-CALNAME:capellades@capellades.cat
X-WR-TIMEZONE:Europe/Madrid
DESCRIPTION:Dins la programació especial de Sant Jordi, es començarà el dilluns a les 6 de la tarda amb la segona edició del Laboratori de Lectura “El llop ha tornat”.

URI:https://www.capellades.cat/actualitat/agenda/3304-laboratori-de-lectura-el-llop-ha-tornat.html
CLASS:PUBLIC
END:VEVENT
END:VCALENDAR
