BEGIN:VCALENDAR
VERSION:2.0
CALSCALE:GREGORIAN
PRODID:-//Diputació de Barcelona//DibaCMS//EN
BEGIN:VEVENT
UID:3303
DTSTAMP:20260421T213458
DTSTART:20180415T180000
DTEND:20180415T200000
SUMMARY:Teatre a La Lliga amb el grup Filagarsa de Molins de Rei
LOCATION:C/ Pilar, 13 08786 Capellades
METHOD:PUBLISH
X-WR-CALNAME:capellades@capellades.cat
X-WR-TIMEZONE:Europe/Madrid
DESCRIPTION:El Grup de Teatre Filagarsa de Molins de Rei torna a La Lliga per presentar "Escac Doble".

URI:https://www.capellades.cat/actualitat/agenda/teatre-a-la-lliga-amb-el-grup-filagarsa-de-molins-de-rei.html
CLASS:PUBLIC
END:VEVENT
END:VCALENDAR
