BEGIN:VCALENDAR
VERSION:2.0
CALSCALE:GREGORIAN
PRODID:-//Diputació de Barcelona//DibaCMS//EN
BEGIN:VEVENT
UID:3302
DTSTAMP:20260421T133929
DTSTART:20180415T120000
DTEND:20180415T150000
SUMMARY:Suspesa la simultània d'escacs amb el FIDE Josué Expósito
LOCATION:C/ Pilar, 13 08786 Capellades
METHOD:PUBLISH
X-WR-CALNAME:capellades@capellades.cat
X-WR-TIMEZONE:Europe/Madrid
DESCRIPTION:El Club d'Escacs Capellades organitza conjuntament amb la Societat La Lliga una matinal d'escacs al cafè.

 

URI:https://www.capellades.cat/actualitat/agenda/suspesa-la-simultania-descacs-amb-el-fide-josue-exposito.html
CLASS:PUBLIC
END:VEVENT
END:VCALENDAR
