BEGIN:VCALENDAR
VERSION:2.0
CALSCALE:GREGORIAN
PRODID:-//Diputació de Barcelona//DibaCMS//EN
BEGIN:VEVENT
UID:3301
DTSTAMP:20260421T185427
DTSTART:20180414T190000
DTEND:20180414T210000
SUMMARY:Concert de Primavera a Paper de Música amb el Duo DeLis
LOCATION:C/ del Fossar, 4 08786 Capellades
METHOD:PUBLISH
X-WR-CALNAME:capellades@capellades.cat
X-WR-TIMEZONE:Europe/Madrid
DESCRIPTION:Concert de Primavera a càrrec del guanyador del Concurs Internacional Paper de Música de Capellades 2017, el Duo DeLis format per Irma Bau, violoncel i Irina Veselova, piano, pel dissabte 14 d’abril, a les 7 de la tarda.

URI:https://www.capellades.cat/actualitat/agenda/concert-de-primavera-a-paper-de-musica-amb-el-duo-delis.html
CLASS:PUBLIC
END:VEVENT
END:VCALENDAR
