BEGIN:VCALENDAR
VERSION:2.0
CALSCALE:GREGORIAN
PRODID:-//Diputació de Barcelona//DibaCMS//EN
BEGIN:VEVENT
UID:3296
DTSTAMP:20260421T152304
DTSTART:20180408T130000
DTEND:20180408T140000
SUMMARY:Concert  Vermut del Quartet Català
LOCATION:C/ Pilar, 13 08786 Capellades
METHOD:PUBLISH
X-WR-CALNAME:capellades@capellades.cat
X-WR-TIMEZONE:Europe/Madrid
DESCRIPTION:Aquest diumenge al migdia a La Lliga es farà el sorteig de cada trimestre, coincidint amb el Concert Vermut.

URI:https://www.capellades.cat/actualitat/agenda/concert-vermut-del-quartet-catala.html
CLASS:PUBLIC
END:VEVENT
END:VCALENDAR
