BEGIN:VCALENDAR
VERSION:2.0
CALSCALE:GREGORIAN
PRODID:-//Diputació de Barcelona//DibaCMS//EN
BEGIN:VEVENT
UID:3295
DTSTAMP:20260422T044659
DTSTART:20180412T210000
DTEND:20180412T230000
SUMMARY:Sopem Lligats amb Jaume Riba Ribalta
LOCATION:C/ Pilar, 13 08786 Capellades
METHOD:PUBLISH
X-WR-CALNAME:capellades@capellades.cat
X-WR-TIMEZONE:Europe/Madrid
DESCRIPTION:Aquest mes d'abril el protagonista del Sopem Lligats serà en Jaume Riba, d’aquells capelladins que sense fer soroll ha fet un munt de coses per Capellades i la seva gent.

URI:https://www.capellades.cat/actualitat/agenda/sopem-lligats-amb-jaume-riba-ribalta.html
CLASS:PUBLIC
END:VEVENT
END:VCALENDAR
