BEGIN:VCALENDAR
VERSION:2.0
CALSCALE:GREGORIAN
PRODID:-//Diputació de Barcelona//DibaCMS//EN
BEGIN:VEVENT
UID:3293
DTSTAMP:20260421T131947
DTSTART:20180410T110000
DTEND:20180410T120000
SUMMARY:Club de Lectura Juvenil
LOCATION:C/ Pilar, 2 08786 Capellades
METHOD:PUBLISH
X-WR-CALNAME:capellades@capellades.cat
X-WR-TIMEZONE:Europe/Madrid
DESCRIPTION:Segona edició del Club de Lectura Juvenil amb l'escola Mare del Diví Pastor de Capellades.

URI:https://www.capellades.cat/actualitat/agenda/club-de-lectura-juvenil.html
CLASS:PUBLIC
END:VEVENT
END:VCALENDAR
