BEGIN:VCALENDAR
VERSION:2.0
CALSCALE:GREGORIAN
PRODID:-//Diputació de Barcelona//DibaCMS//EN
BEGIN:VEVENT
UID:3292
DTSTAMP:20260421T135232
DTSTART:20180408T100000
DTEND:20180408T130000
SUMMARY:Mercat d'Antiguitats
LOCATION:
METHOD:PUBLISH
X-WR-CALNAME:capellades@capellades.cat
X-WR-TIMEZONE:Europe/Madrid
DESCRIPTION:Com és habitual, cada segon diumenge de mes es fa a la plaça Catalunya una nova edició del Mercat d'Antiguitats.

URI:https://www.capellades.cat/actualitat/agenda/3292-mercat-dantiguitats.html
CLASS:PUBLIC
END:VEVENT
END:VCALENDAR
