BEGIN:VCALENDAR
VERSION:2.0
CALSCALE:GREGORIAN
PRODID:-//Diputació de Barcelona//DibaCMS//EN
BEGIN:VEVENT
UID:3291
DTSTAMP:20260421T134600
DTSTART:20180406T110000
DTEND:20180406T130000
SUMMARY:Dia Mundial de l'Activitat Física
LOCATION:
METHOD:PUBLISH
X-WR-CALNAME:capellades@capellades.cat
X-WR-TIMEZONE:Europe/Madrid
DESCRIPTION:Un any més el CAP Capellades se suma als actes previstos per commemorar el Dia Mundial de l'Activitat Física. 

URI:https://www.capellades.cat/actualitat/agenda/3291-dia-mundial-de-lactivitat-fisica.html
CLASS:PUBLIC
END:VEVENT
END:VCALENDAR
