BEGIN:VCALENDAR
VERSION:2.0
CALSCALE:GREGORIAN
PRODID:-//Diputació de Barcelona//DibaCMS//EN
BEGIN:VEVENT
UID:3290
DTSTAMP:20260421T135329
DTSTART:20180407T151500
DTEND:20180407T180000
SUMMARY:Partits a casa dels equips del Futbol Sala Capellades
LOCATION:
METHOD:PUBLISH
X-WR-CALNAME:capellades@capellades.cat
X-WR-TIMEZONE:Europe/Madrid
DESCRIPTION:Aquest dissabte el Futbol Sala Capellades jugarà 3 partits a casa.

URI:https://www.capellades.cat/actualitat/agenda/partits-a-casa-dels-equips-del-futbol-sala-capellades.html
CLASS:PUBLIC
END:VEVENT
END:VCALENDAR
