BEGIN:VCALENDAR
VERSION:2.0
CALSCALE:GREGORIAN
PRODID:-//Diputació de Barcelona//DibaCMS//EN
BEGIN:VEVENT
UID:3281
DTSTAMP:20260421T134909
DTSTART:20180406T193000
DTEND:20180406T210000
SUMMARY:Cinema a La Lliga: Su mejor història
LOCATION:C/ Pilar, 13 08786 Capellades
METHOD:PUBLISH
X-WR-CALNAME:capellades@capellades.cat
X-WR-TIMEZONE:Europe/Madrid
DESCRIPTION:Pel·lícula dirigida per Lone Scherfig i ambientada a Londres durant la Segona Guerra Mundial quan una companyia de cinema rep l’encàrrec de fer una pel·lícula optimista per animar i aixecar la moral a la població.

URI:https://www.capellades.cat/actualitat/agenda/cinema-a-la-lliga-su-mejor-historia.html
CLASS:PUBLIC
END:VEVENT
END:VCALENDAR
