BEGIN:VCALENDAR
VERSION:2.0
CALSCALE:GREGORIAN
PRODID:-//Diputació de Barcelona//DibaCMS//EN
BEGIN:VEVENT
UID:3280
DTSTAMP:20260421T151108
DTSTART:20180408T100000
DTEND:20180408T150000
SUMMARY:Festa anual dels ex-alumnes escola Mare del Diví Pastor
LOCATION:
METHOD:PUBLISH
X-WR-CALNAME:capellades@capellades.cat
X-WR-TIMEZONE:Europe/Madrid
DESCRIPTION:La trobada anual dels ex-alumnes de l'escola Mare del Diví Pastor serà el diumenge 8 d'abril.

URI:https://www.capellades.cat/actualitat/agenda/festa-anual-dels-ex-alumnes-escola-mare-del-divi-pastor.html
CLASS:PUBLIC
END:VEVENT
END:VCALENDAR
