BEGIN:VCALENDAR
VERSION:2.0
CALSCALE:GREGORIAN
PRODID:-//Diputació de Barcelona//DibaCMS//EN
BEGIN:VEVENT
UID:3279
DTSTAMP:20260421T134811
DTSTART:20180407T110000
DTEND:20180407T130000
SUMMARY:Tu hi pintes!
LOCATION:
METHOD:PUBLISH
X-WR-CALNAME:capellades@capellades.cat
X-WR-TIMEZONE:Europe/Madrid
DESCRIPTION:La Taula de Dones, conjuntament amb l'Ajuntament de Capellades i l'Associació de Famílies de menors Transexuals Chysallis, farà una acció el dissabte 7 d'abril.

URI:https://www.capellades.cat/actualitat/agenda/tu-hi-pintes.html
CLASS:PUBLIC
END:VEVENT
END:VCALENDAR
