BEGIN:VCALENDAR
VERSION:2.0
CALSCALE:GREGORIAN
PRODID:-//Diputació de Barcelona//DibaCMS//EN
BEGIN:VEVENT
UID:3273
DTSTAMP:20260421T134428
DTSTART:20180405T200000
DTEND:20180405T210000
SUMMARY:Concert de Cosmos Quartet
LOCATION:
METHOD:PUBLISH
X-WR-CALNAME:capellades@capellades.cat
X-WR-TIMEZONE:Europe/Madrid
DESCRIPTION:El dijous 5 d'abril es farà un triple concert a 'L'Auditori de Barcelona amb participació capelladina.

URI:https://www.capellades.cat/actualitat/agenda/concert-de-cosmos-quartet.html
CLASS:PUBLIC
END:VEVENT
END:VCALENDAR
