BEGIN:VCALENDAR
VERSION:2.0
CALSCALE:GREGORIAN
PRODID:-//Diputació de Barcelona//DibaCMS//EN
BEGIN:VEVENT
UID:3272
DTSTAMP:20260422T083458
DTSTART:20180326T000000
DTEND:20180513T140000
SUMMARY:L’art de la xilografia catalana s’exposa a Capellades
LOCATION:Pau Casals, 10 08786 Capellades
METHOD:PUBLISH
X-WR-CALNAME:capellades@capellades.cat
X-WR-TIMEZONE:Europe/Madrid
DESCRIPTION:El Museu Molí Paperer de Capellades acull fins al 13 de maig la mostra itinerant “Xilografies. La fusta feta imatges. L'auca dels oficis del taller dels Abadal, segles XVII – XXI” .

URI:https://www.capellades.cat/actualitat/agenda/lart-de-la-xilografia-catalana-sexposa-a-capellades.html
CLASS:PUBLIC
END:VEVENT
END:VCALENDAR
