BEGIN:VCALENDAR
VERSION:2.0
CALSCALE:GREGORIAN
PRODID:-//Diputació de Barcelona//DibaCMS//EN
BEGIN:VEVENT
UID:3265
DTSTAMP:20260422T081835
DTSTART:20180327T190000
DTEND:20180327T200000
SUMMARY:Celebració del Dia Mundial del Teatre a Capellades
LOCATION:
METHOD:PUBLISH
X-WR-CALNAME:capellades@capellades.cat
X-WR-TIMEZONE:Europe/Madrid
DESCRIPTION:El proper dimarts dia 27 de març El Teatre La Lliga de Capellades ha estat escollit per celebrar-hi el DIA MUNDIAL DEL TEATRE 2018.

URI:https://www.capellades.cat/actualitat/agenda/celebracio-del-dia-mundial-del-teatre-a-capellades.html
CLASS:PUBLIC
END:VEVENT
END:VCALENDAR
