BEGIN:VCALENDAR
VERSION:2.0
CALSCALE:GREGORIAN
PRODID:-//Diputació de Barcelona//DibaCMS//EN
BEGIN:VEVENT
UID:3262
DTSTAMP:20260422T095054
DTSTART:20180325T120000
DTEND:20180325T130000
SUMMARY:Els capgrossos participen a la Festa Major del Barri del Pi de Barcelona
LOCATION:
METHOD:PUBLISH
X-WR-CALNAME:capellades@capellades.cat
X-WR-TIMEZONE:Europe/Madrid
DESCRIPTION:Capgrossos de Capellades participarà a la Festa Major del Barri del Pi, que acabarà aquest diumenge 25 de març.

URI:https://www.capellades.cat/actualitat/agenda/els-capgrossos-participen-a-la-festa-major-del-barri-del-pi-de-barcelona.html
CLASS:PUBLIC
END:VEVENT
END:VCALENDAR
