BEGIN:VCALENDAR
VERSION:2.0
CALSCALE:GREGORIAN
PRODID:-//Diputació de Barcelona//DibaCMS//EN
BEGIN:VEVENT
UID:3259
DTSTAMP:20260421T151248
DTSTART:20180401T111500
DTEND:20180401T120000
SUMMARY:Diumenge de Pasqua
LOCATION:
METHOD:PUBLISH
X-WR-CALNAME:capellades@capellades.cat
X-WR-TIMEZONE:Europe/Madrid
DESCRIPTION:A 1/4 de 12 del matí, Pasqua i Caramelles al sortir de l'església.

URI:https://www.capellades.cat/actualitat/agenda/diumenge-de-pasqua.html
CLASS:PUBLIC
END:VEVENT
END:VCALENDAR
