BEGIN:VCALENDAR
VERSION:2.0
CALSCALE:GREGORIAN
PRODID:-//Diputació de Barcelona//DibaCMS//EN
BEGIN:VEVENT
UID:3258
DTSTAMP:20260421T134726
DTSTART:20180331T100000
DTEND:20180331T235500
SUMMARY:Dissabte Sant
LOCATION:
METHOD:PUBLISH
X-WR-CALNAME:capellades@capellades.cat
X-WR-TIMEZONE:Europe/Madrid
DESCRIPTION:El Dissabte Sant a les 10 del matí es farà l'Ofici de Lectura i Laudes i a les 10 de la nit, la Vetlla Pasqual.

URI:https://www.capellades.cat/actualitat/agenda/dissabte-sant.html
CLASS:PUBLIC
END:VEVENT
END:VCALENDAR
