BEGIN:VCALENDAR
VERSION:2.0
CALSCALE:GREGORIAN
PRODID:-//Diputació de Barcelona//DibaCMS//EN
BEGIN:VEVENT
UID:3257
DTSTAMP:20260421T135308
DTSTART:20180330T100000
DTEND:20180330T220000
SUMMARY:Divendres Sant
LOCATION:
METHOD:PUBLISH
X-WR-CALNAME:capellades@capellades.cat
X-WR-TIMEZONE:Europe/Madrid
DESCRIPTION:El Divendres Sant començarà a Capellades amb la pregària de laudes a les 10 del matí.

 

URI:https://www.capellades.cat/actualitat/agenda/divendres-sant.html
CLASS:PUBLIC
END:VEVENT
END:VCALENDAR
