BEGIN:VCALENDAR
VERSION:2.0
CALSCALE:GREGORIAN
PRODID:-//Diputació de Barcelona//DibaCMS//EN
BEGIN:VEVENT
UID:3256
DTSTAMP:20260421T134627
DTSTART:20180329T200000
DTEND:20180329T210000
SUMMARY:Dijous Sant
LOCATION:
METHOD:PUBLISH
X-WR-CALNAME:capellades@capellades.cat
X-WR-TIMEZONE:Europe/Madrid
DESCRIPTION:Pel Dijous Sant és previst que a les 8 del vespre es faci la Celebració del Sant Sopar i a les 9 l'Hora Santa de Pregària.

URI:https://www.capellades.cat/actualitat/agenda/dijous-sant.html
CLASS:PUBLIC
END:VEVENT
END:VCALENDAR
